BEGIN:VCALENDAR
VERSION:2.0
PRODID:-//FSV Weissenbrunn 1949 e.V. - ECPv6.15.20//NONSGML v1.0//EN
CALSCALE:GREGORIAN
METHOD:PUBLISH
X-ORIGINAL-URL:https://fsv-weissenbrunn.de
X-WR-CALDESC:Veranstaltungen für FSV Weissenbrunn 1949 e.V.
REFRESH-INTERVAL;VALUE=DURATION:PT1H
X-Robots-Tag:noindex
X-PUBLISHED-TTL:PT1H
BEGIN:VTIMEZONE
TZID:UTC
BEGIN:STANDARD
TZOFFSETFROM:+0000
TZOFFSETTO:+0000
TZNAME:UTC
DTSTART:20250101T000000
END:STANDARD
END:VTIMEZONE
BEGIN:VEVENT
DTSTART;TZID=UTC:20260426T140000
DTEND;TZID=UTC:20260426T170000
DTSTAMP:20260420T004816
CREATED:20260309T214136Z
LAST-MODIFIED:20260309T214136Z
UID:9770-1777212000-1777222800@fsv-weissenbrunn.de
SUMMARY:Kids-Tennis
DESCRIPTION:Du hast Lust auf Tennis oder möchtest den Sport einfach einmal ausprobieren? Dann komm zu unserem Kids-Tennis Schnuppertraining beim FSV Weißenbrunn! \nAm 26. April um 14:00 Uhr laden wir alle tennisinteressierten Kinder im Alter von 6 bis 14 Jahren herzlich auf unsere Tennisanlage ein. Egal ob du schon einmal einen Schläger in der Hand hattest oder ganz neu bist – bei uns steht der Spaß an der Bewegung und am gemeinsamen Spielen im Vordergrund. \nDamit ihr euch ganz auf das Ausprobieren konzentrieren könnt\, kümmern wir uns um alles:✔ Tennisausrüstung wird gestellt✔ Training mit einer Tennistrainerin✔ kleine Stärkungen für zwischendurch✔ kostenlose Teilnahme \nDas Schnuppertraining findet auf unserer Anlage in Weißenbrunn (Weißenbrunner Hauptstraße 1\, 91227 Leinburg) statt. \nZur besseren Planung freuen wir uns über eine kurze Anmeldung. Spontane Teilnehmer sind aber natürlich ebenfalls herzlich willkommen – kommt einfach vorbei und macht mit! \nWir freuen uns auf viele neue Tennisbegeisterte und einen sportlichen Nachmittag mit euch. \nAnsprechpartner:\nThomas Weiß\ntennis@fsv-weissenbrunn.de
URL:https://fsv-weissenbrunn.de/event/kids-tennis/
END:VEVENT
END:VCALENDAR