BEGIN:VCALENDAR
VERSION:2.0
PRODID:-//FSV Weissenbrunn 1949 e.V. - ECPv6.15.20//NONSGML v1.0//EN
CALSCALE:GREGORIAN
METHOD:PUBLISH
X-WR-CALNAME:FSV Weissenbrunn 1949 e.V.
X-ORIGINAL-URL:https://fsv-weissenbrunn.de
X-WR-CALDESC:Veranstaltungen für FSV Weissenbrunn 1949 e.V.
REFRESH-INTERVAL;VALUE=DURATION:PT1H
X-Robots-Tag:noindex
X-PUBLISHED-TTL:PT1H
BEGIN:VTIMEZONE
TZID:UTC
BEGIN:STANDARD
TZOFFSETFROM:+0000
TZOFFSETTO:+0000
TZNAME:UTC
DTSTART:20240101T000000
END:STANDARD
END:VTIMEZONE
BEGIN:VEVENT
DTSTART;TZID=UTC:20251105T090000
DTEND;TZID=UTC:20251105T100000
DTSTAMP:20260420T102605
CREATED:20251101T132537Z
LAST-MODIFIED:20251101T132537Z
UID:5130-1762333200-1762336800@fsv-weissenbrunn.de
SUMMARY:Seniorengymnastik
DESCRIPTION:
URL:https://fsv-weissenbrunn.de/event/seniorengymnastik/
END:VEVENT
BEGIN:VEVENT
DTSTART;TZID=UTC:20251105T180000
DTEND;TZID=UTC:20251105T184500
DTSTAMP:20260420T102605
CREATED:20251101T132935Z
LAST-MODIFIED:20251101T132935Z
UID:5138-1762365600-1762368300@fsv-weissenbrunn.de
SUMMARY:Zumba
DESCRIPTION:
URL:https://fsv-weissenbrunn.de/event/zumba/
END:VEVENT
BEGIN:VEVENT
DTSTART;TZID=UTC:20251105T190000
DTEND;TZID=UTC:20251105T194500
DTSTAMP:20260420T102605
CREATED:20251101T132025Z
LAST-MODIFIED:20251101T132025Z
UID:5119-1762369200-1762371900@fsv-weissenbrunn.de
SUMMARY:Gymnastikkurs
DESCRIPTION:
URL:https://fsv-weissenbrunn.de/event/gymnastikkurs/
END:VEVENT
BEGIN:VEVENT
DTSTART;TZID=UTC:20251106T190000
DTEND;TZID=UTC:20251106T200000
DTSTAMP:20260420T102605
CREATED:20251101T132827Z
LAST-MODIFIED:20251101T132827Z
UID:5134-1762455600-1762459200@fsv-weissenbrunn.de
SUMMARY:Step-Aerobic
DESCRIPTION:
URL:https://fsv-weissenbrunn.de/event/step-aerobic/
END:VEVENT
BEGIN:VEVENT
DTSTART;TZID=UTC:20251112T090000
DTEND;TZID=UTC:20251112T100000
DTSTAMP:20260420T102605
CREATED:20251101T132719Z
LAST-MODIFIED:20251101T132719Z
UID:5132-1762938000-1762941600@fsv-weissenbrunn.de
SUMMARY:Seniorengymnastik
DESCRIPTION:
URL:https://fsv-weissenbrunn.de/event/seniorengymnastik-2/
END:VEVENT
BEGIN:VEVENT
DTSTART;TZID=UTC:20251112T180000
DTEND;TZID=UTC:20251112T184500
DTSTAMP:20260420T102605
CREATED:20251101T132957Z
LAST-MODIFIED:20251101T132957Z
UID:5140-1762970400-1762973100@fsv-weissenbrunn.de
SUMMARY:Zumba
DESCRIPTION:
URL:https://fsv-weissenbrunn.de/event/zumba-2/
END:VEVENT
BEGIN:VEVENT
DTSTART;TZID=UTC:20251112T190000
DTEND;TZID=UTC:20251112T194500
DTSTAMP:20260420T102605
CREATED:20251101T132418Z
LAST-MODIFIED:20251101T132418Z
UID:5128-1762974000-1762976700@fsv-weissenbrunn.de
SUMMARY:Gymnastikkurs
DESCRIPTION:
URL:https://fsv-weissenbrunn.de/event/gymnastikkurs-2/
END:VEVENT
BEGIN:VEVENT
DTSTART;TZID=UTC:20251113T190000
DTEND;TZID=UTC:20251113T200000
DTSTAMP:20260420T102605
CREATED:20251101T132849Z
LAST-MODIFIED:20251101T132849Z
UID:5136-1763060400-1763064000@fsv-weissenbrunn.de
SUMMARY:Step-Aerobic
DESCRIPTION:
URL:https://fsv-weissenbrunn.de/event/step-aerobic-2/
END:VEVENT
END:VCALENDAR